Workbook

Sheet Sheet1
A1: 序号 | B1: 姓名 | C1: 学号 | D1: 学院 | E1: 培养层次 | F1: 奖学金名称 | G1: 生源地
A2: 1 | B2: 郑靖萍 | C2: =VLOOKUP(B2,[1]推荐人选汇总表!$C:$H,6,FALSE) -> 202424306052 | D2: 药学院 | E2: 博士研究生 | F2: 教育部港澳学生特等奖学金 | G2: 中国香港
A3: 2 | B3: 呂艷蘭 | C3: =VLOOKUP(B3,[1]推荐人选汇总表!$C:$H,6,FALSE) -> 202525176022 | D3: 中医学院 | E3: 博士研究生 | F3: 教育部港澳学生特等奖学金 | G3: 中国澳门
A4: 3 | B4: 林少姿 | C4: =VLOOKUP(B4,[1]推荐人选汇总表!$C:$H,6,FALSE) -> 202425176053 | D4: 中医学院 | E4: 博士研究生 | F4: 教育部港澳学生特等奖学金 | G4: 中国澳门
A5: 4 | B5: 万嘉燕 | C5: =VLOOKUP(B5,[1]推荐人选汇总表!$C:$H,6,FALSE) -> 202425566050 | D5: 药学院 | E5: 博士研究生 | F5: 教育部港澳学生特等奖学金 | G5: 中国香港
A6: 5 | B6: 陈芷晞 | C6: =VLOOKUP(B6,[1]推荐人选汇总表!$C:$H,6,FALSE) -> 202525056020 | D6: 第一临床医学院 | E6: 博士研究生 | F6: 教育部港澳学生特等奖学金 | G6: 中国香港
A7: 6 | B7: 谭敬升 | C7: =VLOOKUP(B7,[1]推荐人选汇总表!$C:$H,6,FALSE) -> 202424306051 | D7: 生命科学技术学院 | E7: 博士研究生 | F7: 教育部港澳学生特等奖学金 | G7: 中国香港
A8: 7 | B8: 施文雯 | C8: =VLOOKUP(B8,[1]推荐人选汇总表!$C:$H,6,FALSE) -> 202522426001 | D8: 文学院 | E8: 博士研究生 | F8: 教育部港澳学生特等奖学金 | G8: 中国香港
A9: 8 | B9: 邱尧丹 | C9: =VLOOKUP(B9,[1]推荐人选汇总表!$C:$H,6,FALSE) -> 202522326020 | D9: 新闻与传播学院 | E9: 博士研究生 | F9: 教育部港澳学生特等奖学金 | G9: 中国香港
A10: 9 | B10: 石宇蓝 | C10: =VLOOKUP(B10,[1]推荐人选汇总表!$C:$H,6,FALSE) -> 202421046050 | D10: 国际关系学院/华侨华人研究院 | E10: 博士研究生 | F10: 教育部港澳学生一等奖学金 | G10: 中国香港
A11: 10 | B11: 黄敏仪 | C11: =VLOOKUP(B11,[1]推荐人选汇总表!$C:$H,6,FALSE) -> 202525166020 | D11: 中医学院 | E11: 博士研究生 | F11: 教育部港澳学生一等奖学金 | G11: 中国香港
A12: 11 | B12: 方潁榆 | C12: =VLOOKUP(B12,[1]推荐人选汇总表!$C:$H,6,FALSE) -> 202525176025 | D12: 中医学院 | E12: 博士研究生 | F12: 教育部港澳学生一等奖学金 | G12: 中国香港
A13: 12 | B13: 林伟隽 | C13: =VLOOKUP(B13,[1]推荐人选汇总表!$C:$H,6,FALSE) -> 202426236050 | D13: 管理学院 | E13: 博士研究生 | F13: 教育部港澳学生一等奖学金 | G13: 中国香港
... A55: 54 | B55: 黄永炫 | C55: =VLOOKUP(B55,[1]推荐人选汇总表!$C:$H,6,FALSE) -> 202625166020 | D55: 中医学院 | E55: 博士研究生 | F55: 教育部港澳学生三等奖学金 | G55: 中国香港
A56: 55 | B56: 杜安淇 | C56: 202621046020 | D56: 国际关系学院/华侨华人研究院 | E56: 博士研究生 | F56: 教育部港澳学生三等奖学金 | G56: 中国香港
A57: 56 | B57: 张嘉伟 | C57: 202620016001 | D57: 经济学院 | E57: 博士研究生 | F57: 教育部港澳学生三等奖学金 | G57: 中国香港
A58: 57 | B58: 张笑天 | C58: 202620026001 | D58: 经济学院 | E58: 博士研究生 | F58: 教育部港澳学生三等奖学金 | G58: 中国香港
A59: 58 | B59: 高浩成 | C59: 202625266020 | D59: 第一临床医学院 | E59: 博士研究生 | F59: 教育部港澳学生三等奖学金 | G59: 中国香港
A60: 59 | B60: 刁茂辉 | C60: 202525926020 | D60: 第一临床医学院 | E60: 博士研究生 | F60: 教育部港澳学生三等奖学金 | G60: 中国香港
A61: 60 | B61: 李天耀 | C61: 202625436020 | D61: 第一临床医学院 | E61: 博士研究生 | F61: 教育部港澳学生三等奖学金 | G61: 中国澳门
A62: 61 | B62: 马云龙 | C62: 202525476020 | D62: 第一临床医学院 | E62: 博士研究生 | F62: 教育部港澳学生三等奖学金 | G62: 中国香港
A63: 62 | B63: 黄熙丹 | C63: =VLOOKUP(B63,[1]推荐人选汇总表!$C:$H,6,FALSE) -> 202532216075 | D63: 新闻与传播学院 | E63: 硕士研究生 | F63: 教育部港澳学生特等奖学金 | G63: 中国香港
A64: 63 | B64: 叶韵睿 | C64: =VLOOKUP(B64,[1]推荐人选汇总表!$C:$H,6,FALSE) -> 202434276003 | D64: 信息科学技术学院 | E64: 硕士研究生 | F64: 教育部港澳学生特等奖学金 | G64: 中国香港
A65: 64 | B65: 冯若彤 | C65: =VLOOKUP(B65,[1]推荐人选汇总表!$C:$H,6,FALSE) -> 202535686300 | D65: 中医学院 | E65: 硕士研究生 | F65: 教育部港澳学生特等奖学金 | G65: 中国香港
A66: 65 | B66: 周麟 | C66: =VLOOKUP(B66,[1]推荐人选汇总表!$C:$H,6,FALSE) -> 202432436051 | D66: 文学院 | E66: 硕士研究生 | F66: 教育部港澳学生特等奖学金 | G66: 中国香港
A67: 66 | B67: 禤穎麟 | C67: =VLOOKUP(B67,[1]推荐人选汇总表!$C:$H,6,FALSE) -> 202534126301 | D67: 生命科学技术学院 | E67: 硕士研究生 | F67: 教育部港澳学生特等奖学金 | G67: 中国香港
A68: 67 | B68: 麥嘉文 | C68: =VLOOKUP(B68,[1]推荐人选汇总表!$C:$H,6,FALSE) -> 202434366001 | D68: 力学与建筑工程学院 | E68: 硕士研究生 | F68: 教育部港澳学生特等奖学金 | G68: 中国香港
A69: 68 | B69: 陈妍钏 | C69: =VLOOKUP(B69,[1]推荐人选汇总表!$C:$H,6,FALSE) -> 202532206304 | D69: 外国语学院 | E69: 硕士研究生 | F69: 教育部港澳学生特等奖学金 | G69: 中国香港
A70: 69 | B70: 李澄 | C70: =VLOOKUP(B70,[1]推荐人选汇总表!$C:$H,6,FALSE) -> 202434116051 | D70: 环境与气候学院 | E70: 硕士研究生 | F70: 教育部港澳学生特等奖学金 | G70: 中国香港
A71: 70 | B71: 林森 | C71: =VLOOKUP(B71,[1]推荐人选汇总表!$C:$H,6,FALSE) -> 202532376070 | D71: 体育学院 | E71: 硕士研究生 | F71: 教育部港澳学生特等奖学金 | G71: 中国香港
A72: 71 | B72: 谢正桓 | C72: =VLOOKUP(B72,[1]推荐人选汇总表!$C:$H,6,FALSE) -> 202532446301 | D72: 艺术学院/珠江电影学院 | E72: 硕士研究生 | F72: 教育部港澳学生特等奖学金 | G72: 中国澳门
A73: 72 | B73: 黄俊霖 | C73: =VLOOKUP(B73,[1]推荐人选汇总表!$C:$H,6,FALSE) -> 202433386001 | D73: 物理与光电工程学院 | E73: 硕士研究生 | F73: 教育部港澳学生特等奖学金 | G73: 中国香港
A74: 73 | B74: 王艾祎铭 | C74: =VLOOKUP(B74,[1]推荐人选汇总表!$C:$H,6,FALSE) -> 202532196306 | D74: 华文学院 | E74: 硕士研究生 | F74: 教育部港澳学生特等奖学金 | G74: 中国香港
... A198: 197 | B198: 林楚 | C198: =VLOOKUP(B198,[1]推荐人选汇总表!$C:$H,6,FALSE) -> 202535206001 | D198: 药学院 | E198: 硕士研究生 | F198: 教育部港澳学生三等奖学金 | G198: 中国香港
